BEGIN:VCALENDAR
CALSCALE:GREGORIAN
X-WR-TIMEZONE;VALUE=TEXT:GMT
PRODID:PEAK Corporation - piCal -
X-WR-CALNAME;VALUE=TEXT:ゆげ女性塾結成15周年記念イベント
VERSION:2.0
METHOD:PUBLISH
BEGIN:VTIMEZONE
TZID:GMT
BEGIN:STANDARD
DTSTART:19390101T000000
TZOFFSETFROM:+0000
TZOFFSETTO:+0000
TZNAME:GMT
END:STANDARD
END:VTIMEZONE
BEGIN:VEVENT
DTSTART:20080927T020000Z
DTEND:20080927T050000Z
LOCATION:多目的ホール
TRANSP:OPAQUE
SEQUENCE:1
UID:pical060-28f8847827fea22ccf28d60712ab7f37
DTSTAMP:20080904T015117Z
CATEGORIES:多目的ホール
DESCRIPTION:生カラ・純カラおけ大会\n　＊参加費2,000円\n　＊内容　生演奏カラオケ20名\n　　　　　　 プロ歌手ショー　松川一也（クラウンレコード所属）\n　　　　　　 カラオケ機10名
SUMMARY:ゆげ女性塾結成15周年記念イベント
PRIORITY:0
CLASS:PUBLIC
END:VEVENT
END:VCALENDAR
