BEGIN:VCALENDAR
CALSCALE:GREGORIAN
X-WR-TIMEZONE;VALUE=TEXT:GMT
PRODID:PEAK Corporation - piCal -
X-WR-CALNAME;VALUE=TEXT:植物画
VERSION:2.0
METHOD:PUBLISH
BEGIN:VTIMEZONE
TZID:GMT
BEGIN:STANDARD
DTSTART:19390101T000000
TZOFFSETFROM:+0000
TZOFFSETTO:+0000
TZNAME:GMT
END:STANDARD
END:VTIMEZONE
BEGIN:VEVENT
DTSTART:20081124T040000Z
DTEND:20081124T070000Z
LOCATION:せとうち交流館　体験交流室
TRANSP:OPAQUE
SEQUENCE:0
UID:pical060-7b280e738fbc3bd0ad196762008c2099
DTSTAMP:20081104T032209Z
CATEGORIES:体験交流室
DESCRIPTION:会員募集中！！
SUMMARY:植物画
PRIORITY:0
CLASS:PUBLIC
END:VEVENT
END:VCALENDAR
