BEGIN:VCALENDAR
CALSCALE:GREGORIAN
X-WR-TIMEZONE;VALUE=TEXT:GMT
PRODID:PEAK Corporation - piCal -
X-WR-CALNAME;VALUE=TEXT:しまなみ人養成講座
VERSION:2.0
METHOD:PUBLISH
BEGIN:VTIMEZONE
TZID:GMT
BEGIN:STANDARD
DTSTART:19390101T000000
TZOFFSETFROM:+0000
TZOFFSETTO:+0000
TZNAME:GMT
END:STANDARD
END:VTIMEZONE
BEGIN:VEVENT
DTSTART:20081214T060000Z
DTEND:20081214T080000Z
LOCATION:せとうち交流館　多目的ホール
TRANSP:OPAQUE
SEQUENCE:0
UID:pical060-1f644593fc5aacdc304ebd828bcefdef
DTSTAMP:20081128T061340Z
CATEGORIES:多目的ホール
DESCRIPTION:「青いレモンのカクテル講座」\n\n地元で実った果実を使った本物のカクテルを体験してください！
SUMMARY:しまなみ人養成講座
PRIORITY:0
CLASS:PUBLIC
END:VEVENT
END:VCALENDAR
