BEGIN:VCALENDAR
CALSCALE:GREGORIAN
X-WR-TIMEZONE;VALUE=TEXT:GMT
PRODID:PEAK Corporation - piCal -
X-WR-CALNAME;VALUE=TEXT:ＡＬＴ担当者打ち合わせ会
VERSION:2.0
METHOD:PUBLISH
BEGIN:VTIMEZONE
TZID:GMT
BEGIN:STANDARD
DTSTART:19390101T000000
TZOFFSETFROM:+0000
TZOFFSETTO:+0000
TZNAME:GMT
END:STANDARD
END:VTIMEZONE
BEGIN:VEVENT
DTSTART:20110301T050000Z
DTEND:20110301T070000Z
LOCATION:体験交流室
TRANSP:OPAQUE
SEQUENCE:1
UID:pical060-9fe707fc50276ec5a10ac19ed508061f
DTSTAMP:20110310T080435Z
CATEGORIES:体験交流室
DESCRIPTION:ＡＬＴ担当者打ち合わせ会
SUMMARY:ＡＬＴ担当者打ち合わせ会
PRIORITY:0
CLASS:PUBLIC
END:VEVENT
END:VCALENDAR
