BEGIN:VCALENDAR
CALSCALE:GREGORIAN
X-WR-TIMEZONE;VALUE=TEXT:GMT
PRODID:PEAK Corporation - piCal -
X-WR-CALNAME;VALUE=TEXT:上島町選挙管理委員会
VERSION:2.0
METHOD:PUBLISH
BEGIN:VTIMEZONE
TZID:GMT
BEGIN:STANDARD
DTSTART:19390101T000000
TZOFFSETFROM:+0000
TZOFFSETTO:+0000
TZNAME:GMT
END:STANDARD
END:VTIMEZONE
BEGIN:VEVENT
DTSTART:20110302T050000Z
DTEND:20110302T060000Z
LOCATION:体験交流室
TRANSP:OPAQUE
SEQUENCE:1
UID:pical060-da3d31fa27be6df6f201ac034b64db50
DTSTAMP:20110310T075635Z
CATEGORIES:体験交流室
DESCRIPTION:上島町選挙管理委員会
SUMMARY:上島町選挙管理委員会
PRIORITY:0
CLASS:PUBLIC
END:VEVENT
END:VCALENDAR
