BEGIN:VCALENDAR
CALSCALE:GREGORIAN
X-WR-TIMEZONE;VALUE=TEXT:GMT
PRODID:PEAK Corporation - piCal -
X-WR-CALNAME;VALUE=TEXT:上島町文化協会役員会
VERSION:2.0
METHOD:PUBLISH
BEGIN:VTIMEZONE
TZID:GMT
BEGIN:STANDARD
DTSTART:19390101T000000
TZOFFSETFROM:+0000
TZOFFSETTO:+0000
TZNAME:GMT
END:STANDARD
END:VTIMEZONE
BEGIN:VEVENT
DTSTART:20110324T040000Z
DTEND:20110324T070000Z
LOCATION:体験交流室
TRANSP:OPAQUE
SEQUENCE:0
UID:pical060-8afd5dfdfe861ff443a2f9ac1fe48443
DTSTAMP:20110310T074756Z
CATEGORIES:体験交流室
DESCRIPTION:
SUMMARY:上島町文化協会役員会
PRIORITY:0
CLASS:PUBLIC
END:VEVENT
END:VCALENDAR
