BEGIN:VCALENDAR
CALSCALE:GREGORIAN
X-WR-TIMEZONE;VALUE=TEXT:GMT
PRODID:PEAK Corporation - piCal -
X-WR-CALNAME;VALUE=TEXT:定例会
VERSION:2.0
METHOD:PUBLISH
BEGIN:VTIMEZONE
TZID:GMT
BEGIN:STANDARD
DTSTART:19390101T000000
TZOFFSETFROM:+0000
TZOFFSETTO:+0000
TZNAME:GMT
END:STANDARD
END:VTIMEZONE
BEGIN:VEVENT
DTSTART:20110328T010000Z
DTEND:20110328T020000Z
LOCATION:体験交流室
TRANSP:OPAQUE
SEQUENCE:0
UID:pical060-007bd5070f32c3f37c7fd863e710937c
DTSTAMP:20110310T074957Z
CATEGORIES:体験交流室
DESCRIPTION:
SUMMARY:定例会
PRIORITY:0
CLASS:PUBLIC
END:VEVENT
END:VCALENDAR
