BEGIN:VCALENDAR
CALSCALE:GREGORIAN
X-WR-TIMEZONE;VALUE=TEXT:GMT
PRODID:PEAK Corporation - piCal -
X-WR-CALNAME;VALUE=TEXT:ボランティア交流会
VERSION:2.0
METHOD:PUBLISH
BEGIN:VTIMEZONE
TZID:GMT
BEGIN:STANDARD
DTSTART:19390101T000000
TZOFFSETFROM:+0000
TZOFFSETTO:+0000
TZNAME:GMT
END:STANDARD
END:VTIMEZONE
BEGIN:VEVENT
DTSTART:20110328T040000Z
DTEND:20110328T060000Z
LOCATION:体験交流室
TRANSP:OPAQUE
SEQUENCE:1
UID:pical060-d3def6437491e2e6f66db9fc95d648ea
DTSTAMP:20110310T075324Z
CATEGORIES:体験交流室
DESCRIPTION:意見交換
SUMMARY:ボランティア交流会
PRIORITY:0
CLASS:PUBLIC
END:VEVENT
END:VCALENDAR
