BEGIN:VCALENDAR
CALSCALE:GREGORIAN
X-WR-TIMEZONE;VALUE=TEXT:GMT
PRODID:PEAK Corporation - piCal -
X-WR-CALNAME;VALUE=TEXT:婦人会
VERSION:2.0
METHOD:PUBLISH
BEGIN:VTIMEZONE
TZID:GMT
BEGIN:STANDARD
DTSTART:19390101T000000
TZOFFSETFROM:+0000
TZOFFSETTO:+0000
TZNAME:GMT
END:STANDARD
END:VTIMEZONE
BEGIN:VEVENT
DTSTART:20110310T043000Z
DTEND:20110310T070000Z
LOCATION:体験交流室
TRANSP:OPAQUE
SEQUENCE:0
UID:pical060-44c098acf784131e882810bfdea9bd83
DTSTAMP:20110310T080304Z
CATEGORIES:体験交流室
DESCRIPTION:連絡委員会
SUMMARY:婦人会
PRIORITY:0
CLASS:PUBLIC
END:VEVENT
END:VCALENDAR
