BEGIN:VCALENDAR
CALSCALE:GREGORIAN
X-WR-TIMEZONE;VALUE=TEXT:GMT
PRODID:PEAK Corporation - piCal -
X-WR-CALNAME;VALUE=TEXT:上島町介護保険運営協議会
VERSION:2.0
METHOD:PUBLISH
BEGIN:VTIMEZONE
TZID:GMT
BEGIN:STANDARD
DTSTART:19390101T000000
TZOFFSETFROM:+0000
TZOFFSETTO:+0000
TZNAME:GMT
END:STANDARD
END:VTIMEZONE
BEGIN:VEVENT
DTSTART:20110310T040000Z
DTEND:20110310T070000Z
LOCATION:多目的ホール
TRANSP:OPAQUE
SEQUENCE:0
UID:pical060-012d09c3b851c2d1f69918b05788aeb3
DTSTAMP:20110310T080625Z
CATEGORIES:多目的ホール
DESCRIPTION:協議会
SUMMARY:上島町介護保険運営協議会
PRIORITY:0
CLASS:PUBLIC
END:VEVENT
END:VCALENDAR
