BEGIN:VCALENDAR
CALSCALE:GREGORIAN
X-WR-TIMEZONE;VALUE=TEXT:GMT
PRODID:PEAK Corporation - piCal -
X-WR-CALNAME;VALUE=TEXT:平成２３年度第３回上島町教務主任会
VERSION:2.0
METHOD:PUBLISH
BEGIN:VTIMEZONE
TZID:GMT
BEGIN:STANDARD
DTSTART:19390101T000000
TZOFFSETFROM:+0000
TZOFFSETTO:+0000
TZNAME:GMT
END:STANDARD
END:VTIMEZONE
BEGIN:VEVENT
DTSTART:20110307T030000Z
DTEND:20110307T080000Z
LOCATION:体験交流室
TRANSP:OPAQUE
SEQUENCE:0
UID:pical060-18f34e99768d2536fb8f8f09ff6e1cbc
DTSTAMP:20110310T084702Z
CATEGORIES:体験交流室
DESCRIPTION:平成２３年度第３回上島町教務主任会
SUMMARY:平成２３年度第３回上島町教務主任会
PRIORITY:0
CLASS:PUBLIC
END:VEVENT
END:VCALENDAR
